BEGIN:VCALENDAR
VERSION:2.0
PRODID:-//empowercdc.org//NONSGML kigkonsult.se iCalcreator 2.30.10//
CALSCALE:GREGORIAN
METHOD:PUBLISH
UID:593542c3-4458-4a2e-810c-fc3ce1ac8fef
X-WR-CALDESC:EXERCISE\nEmpower\nTai Chi\n@ 3:00 PM\nCharacter Building\nEmp
 ower\nSpelling B\n@4:00 PM\n\n*Resident only event*
X-WR-RELCALID:4856b9e88f3855bb0bbdbeb5e9a7c235
X-WR-TIMEZONE:America/Chicago
BEGIN:VTIMEZONE
TZID:America/Chicago
BEGIN:STANDARD
TZNAME:CST
DTSTART:20241103T020000
TZOFFSETFROM:-0500
TZOFFSETTO:-0600
RDATE:20251102T020000
RDATE:20261101T020000
END:STANDARD
BEGIN:DAYLIGHT
TZNAME:CDT
DTSTART:20250309T020000
TZOFFSETFROM:-0600
TZOFFSETTO:-0500
RDATE:20260308T020000
END:DAYLIGHT
END:VTIMEZONE
BEGIN:VEVENT
UID:176b4b86-9ab2-4ea1-aeb8-6151002bccb0
DTSTAMP:20260423T100440Z
DESCRIPTION:EXERCISE\nEmpower\nTai Chi\n@ 3:00 PM\nCharacter Building\nEmpo
 wer\nSpelling B\n@4:00 PM\n\n*Resident only event*
DTSTART;TZID=America/Chicago:20250609T150000
DTEND;TZID=America/Chicago:20250609T170000
LOCATION:12353 Huffmeister Rd\, Cypress\, TX 77429 US
SUMMARY:The Meadows: Exercise\, Character Building
END:VEVENT
END:VCALENDAR
