BEGIN:VCALENDAR
VERSION:2.0
PRODID:-//empowercdc.org//NONSGML kigkonsult.se iCalcreator 2.30.10//
CALSCALE:GREGORIAN
METHOD:PUBLISH
UID:f4afe77f-030e-4372-9abb-0cc1d95639c8
X-WR-CALDESC:OUTREACH &\nEDUCATION-LHB\nBirthday Social @ 2:30PM
X-WR-RELCALID:bd43d8ef038dd530b3562cb8117a8021
X-WR-TIMEZONE:America/Chicago
BEGIN:VTIMEZONE
TZID:America/Chicago
BEGIN:STANDARD
TZNAME:CST
DTSTART:20241103T020000
TZOFFSETFROM:-0500
TZOFFSETTO:-0600
RDATE:20251102T020000
RDATE:20261101T020000
END:STANDARD
BEGIN:DAYLIGHT
TZNAME:CDT
DTSTART:20250309T020000
TZOFFSETFROM:-0600
TZOFFSETTO:-0500
RDATE:20260308T020000
END:DAYLIGHT
END:VTIMEZONE
BEGIN:VEVENT
UID:464d7f03-633f-46bb-85d7-4dce59631e14
DTSTAMP:20260423T103149Z
DESCRIPTION:OUTREACH &\nEDUCATION-LHB\nBirthday Social @ 2:30PM
DTSTART;TZID=America/Chicago:20250605T143000
DTEND;TZID=America/Chicago:20250605T153000
LOCATION:325 Flagship Boulevard\, Montgomery\, TX 77316 US
SUMMARY:The Heritage: Outreach & Education
END:VEVENT
END:VCALENDAR
