BEGIN:VCALENDAR
VERSION:2.0
PRODID:-//empowercdc.org//NONSGML kigkonsult.se iCalcreator 2.30.10//
CALSCALE:GREGORIAN
METHOD:PUBLISH
UID:fb3d8f5b-cf66-4447-bd3c-f55266850595
X-WR-CALDESC:OUTREACH &\nEDUCATION- LHB\nBirthday Social\n@ 1:00 PM
X-WR-RELCALID:6cb6bf1f4f285608ae7352f6f4a7e7b1
X-WR-TIMEZONE:America/Chicago
BEGIN:VTIMEZONE
TZID:America/Chicago
BEGIN:STANDARD
TZNAME:CST
DTSTART:20241103T020000
TZOFFSETFROM:-0500
TZOFFSETTO:-0600
RDATE:20251102T020000
RDATE:20261101T020000
END:STANDARD
BEGIN:DAYLIGHT
TZNAME:CDT
DTSTART:20250309T020000
TZOFFSETFROM:-0600
TZOFFSETTO:-0500
RDATE:20260308T020000
END:DAYLIGHT
END:VTIMEZONE
BEGIN:VEVENT
UID:b3b69960-cf67-42e9-bcf6-c732fed29641
DTSTAMP:20260423T103314Z
DESCRIPTION:OUTREACH &\nEDUCATION- LHB\nBirthday Social\n@ 1:00 PM
DTSTART;TZID=America/Chicago:20250605T130000
DTEND;TZID=America/Chicago:20250605T150000
LOCATION:219 Flagship Blvd\, Montgomery\, TX 77316 US
SUMMARY:The Heritage 55+: Outreach & Education
END:VEVENT
END:VCALENDAR
