BEGIN:VCALENDAR
VERSION:2.0
PRODID:-//empowercdc.org//NONSGML kigkonsult.se iCalcreator 2.30.10//
CALSCALE:GREGORIAN
METHOD:PUBLISH
UID:a4637eb3-d5ae-49a1-b11e-f11d436696d4
X-WR-CALDESC:SOCIAL-Texans Benefit\nBirthday Social\n@ 11:30AM\n\nEXERCISE-
  BONA\nSuper Senior Fitness\n@1:00PM
X-WR-RELCALID:e3f7b0d105a794ffaae6da78b7d1c995
X-WR-TIMEZONE:America/Chicago
BEGIN:VTIMEZONE
TZID:America/Chicago
BEGIN:STANDARD
TZNAME:CST
DTSTART:20241103T020000
TZOFFSETFROM:-0500
TZOFFSETTO:-0600
RDATE:20251102T020000
RDATE:20261101T020000
END:STANDARD
BEGIN:DAYLIGHT
TZNAME:CDT
DTSTART:20250309T020000
TZOFFSETFROM:-0600
TZOFFSETTO:-0500
RDATE:20260308T020000
END:DAYLIGHT
END:VTIMEZONE
BEGIN:VEVENT
UID:38f4b013-a5a8-4e2e-bfb8-c9a4474bd4c3
DTSTAMP:20260423T100603Z
DESCRIPTION:SOCIAL-Texans Benefit\nBirthday Social\n@ 11:30AM\n\nEXERCISE- 
 BONA\nSuper Senior Fitness\n@1:00PM
DTSTART;TZID=America/Chicago:20250605T113000
DTEND;TZID=America/Chicago:20250605T140000
LOCATION:1830 Hollyoak Dr\, Houston\, TX 77084 US
SUMMARY:Hollyoak: Social\, Exercise
END:VEVENT
END:VCALENDAR
