BEGIN:VCALENDAR
VERSION:2.0
PRODID:-//empowercdc.org//NONSGML kigkonsult.se iCalcreator 2.30.10//
CALSCALE:GREGORIAN
METHOD:PUBLISH
UID:70f61ccf-04dc-4a6d-901d-7a1ca459cb4c
X-WR-CALDESC:Financial Planning\nEmpower\n\nBudgeting Worksheet\n@2:00 PM\n
 \nHealth & Nutrition-\nEmpower\n\nFruit Bash\n@3:00 PM\n*Resident only eve
 nt*
X-WR-RELCALID:5647b94d086a05328127449cf4f5c7d3
X-WR-TIMEZONE:America/Chicago
BEGIN:VTIMEZONE
TZID:America/Chicago
BEGIN:STANDARD
TZNAME:CST
DTSTART:20241103T020000
TZOFFSETFROM:-0500
TZOFFSETTO:-0600
RDATE:20251102T020000
RDATE:20261101T020000
END:STANDARD
BEGIN:DAYLIGHT
TZNAME:CDT
DTSTART:20250309T020000
TZOFFSETFROM:-0600
TZOFFSETTO:-0500
RDATE:20260308T020000
END:DAYLIGHT
END:VTIMEZONE
BEGIN:VEVENT
UID:7386ce7e-2fdc-45cc-80f7-68bd3df51afd
DTSTAMP:20260423T103218Z
DESCRIPTION:Financial Planning\nEmpower\n\nBudgeting Worksheet\n@2:00 PM\n
 \nHealth & Nutrition-\nEmpower\n\nFruit Bash\n@3:00 PM\n*Resident only eve
 nt*
DTSTART;TZID=America/Chicago:20250603T140000
DTEND;TZID=America/Chicago:20250603T160000
LOCATION:6725 Brittmoore Road\, Houston\, TX 77041 US
SUMMARY:Brittmoore: Financial Planning\, Health & Nutrition
END:VEVENT
END:VCALENDAR
