BEGIN:VCALENDAR
VERSION:2.0
PRODID:-//empowercdc.org//NONSGML kigkonsult.se iCalcreator 2.30.10//
CALSCALE:GREGORIAN
METHOD:PUBLISH
UID:a08efe88-8fc0-4964-bc58-7f29d9135d56
X-WR-CALDESC:HEALTH & NUTRITION-\nEmpower\n\nSenior Fitness Fair\n@11:00AM
X-WR-RELCALID:7ccdbeb57cb71af8ffd9a4688a6a80fc
X-WR-TIMEZONE:America/Chicago
BEGIN:VTIMEZONE
TZID:America/Chicago
BEGIN:STANDARD
TZNAME:CST
DTSTART:20241103T020000
TZOFFSETFROM:-0500
TZOFFSETTO:-0600
RDATE:20251102T020000
RDATE:20261101T020000
END:STANDARD
BEGIN:DAYLIGHT
TZNAME:CDT
DTSTART:20250309T020000
TZOFFSETFROM:-0600
TZOFFSETTO:-0500
RDATE:20260308T020000
END:DAYLIGHT
END:VTIMEZONE
BEGIN:VEVENT
UID:7658d348-694b-40bb-96d3-d42d38552736
DTSTAMP:20260423T090850Z
DESCRIPTION:HEALTH & NUTRITION-\nEmpower\n\nSenior Fitness Fair\n@11:00AM
DTSTART;TZID=America/Chicago:20250530T110000
DTEND;TZID=America/Chicago:20250530T120000
LOCATION:1830 Hollyoak Dr\, Houston\, TX 77084 US
SUMMARY:Hollyoak: Health & Nutrition
END:VEVENT
END:VCALENDAR
