BEGIN:VCALENDAR
VERSION:2.0
PRODID:-//empowercdc.org//NONSGML kigkonsult.se iCalcreator 2.30.10//
CALSCALE:GREGORIAN
METHOD:PUBLISH
UID:432fc670-f986-41c9-91cb-bd6fdf4b07b8
X-WR-CALDESC:EXERCISE\nFITNESS BINGO\n@10AM\n\n*Resident only event*
X-WR-RELCALID:d77e561a0fff05c5de99c30e2b006e40
X-WR-TIMEZONE:America/Chicago
BEGIN:VTIMEZONE
TZID:America/Chicago
BEGIN:STANDARD
TZNAME:CST
DTSTART:20241103T020000
TZOFFSETFROM:-0500
TZOFFSETTO:-0600
RDATE:20251102T020000
RDATE:20261101T020000
END:STANDARD
BEGIN:DAYLIGHT
TZNAME:CDT
DTSTART:20250309T020000
TZOFFSETFROM:-0600
TZOFFSETTO:-0500
RDATE:20260308T020000
END:DAYLIGHT
END:VTIMEZONE
BEGIN:VEVENT
UID:cdfdaa48-71fd-4e33-a7c6-b0e5d2977fa1
DTSTAMP:20260423T085941Z
DESCRIPTION:EXERCISE\nFITNESS BINGO\n@10AM\n\n*Resident only event*
DTSTART;TZID=America/Chicago:20250529T100000
DTEND;TZID=America/Chicago:20250529T110000
LOCATION:1717 FM359\, Richmond\, TX 77406 US
SUMMARY:Jones Creek: Exercise
END:VEVENT
END:VCALENDAR
