BEGIN:VCALENDAR
VERSION:2.0
PRODID:-//empowercdc.org//NONSGML kigkonsult.se iCalcreator 2.30.10//
CALSCALE:GREGORIAN
METHOD:PUBLISH
UID:4cfbc5da-0fa7-422a-bd25-d515601e1aab
X-WR-CALDESC:EXERCISE\nSENIOR FITNESS FAIR\n@11AM
X-WR-RELCALID:ab32814ee7551dc364421d83efe32f3b
X-WR-TIMEZONE:America/Chicago
BEGIN:VTIMEZONE
TZID:America/Chicago
BEGIN:STANDARD
TZNAME:CST
DTSTART:20241103T020000
TZOFFSETFROM:-0500
TZOFFSETTO:-0600
RDATE:20251102T020000
RDATE:20261101T020000
END:STANDARD
BEGIN:DAYLIGHT
TZNAME:CDT
DTSTART:20250309T020000
TZOFFSETFROM:-0600
TZOFFSETTO:-0500
RDATE:20260308T020000
END:DAYLIGHT
END:VTIMEZONE
BEGIN:VEVENT
UID:b6fddc9e-686f-41b3-af22-3589c470055c
DTSTAMP:20260423T090410Z
DESCRIPTION:EXERCISE\nSENIOR FITNESS FAIR\n@11AM
DTSTART;TZID=America/Chicago:20250527T110000
DTEND;TZID=America/Chicago:20250527T120000
LOCATION:15707 Kuykendahl Ct\, Conroe\, TX 77384 US
SUMMARY:Kuykendalh Court: Exercise
END:VEVENT
END:VCALENDAR
