BEGIN:VCALENDAR
VERSION:2.0
PRODID:-//empowercdc.org//NONSGML kigkonsult.se iCalcreator 2.30.10//
CALSCALE:GREGORIAN
METHOD:PUBLISH
UID:716f1e25-a4c1-471e-bba8-1ebb27b4bbe6
X-WR-CALDESC:FOOD PANTRY\nEmpower\nMonthly Food Pantry\n@1:00 PM\n*Resident
  only event*
X-WR-RELCALID:b382348cb7735cfcd7e11b6c6d8143aa
X-WR-TIMEZONE:America/Chicago
BEGIN:VTIMEZONE
TZID:America/Chicago
BEGIN:STANDARD
TZNAME:CST
DTSTART:20241103T020000
TZOFFSETFROM:-0500
TZOFFSETTO:-0600
RDATE:20251102T020000
RDATE:20261101T020000
END:STANDARD
BEGIN:DAYLIGHT
TZNAME:CDT
DTSTART:20250309T020000
TZOFFSETFROM:-0600
TZOFFSETTO:-0500
RDATE:20260308T020000
END:DAYLIGHT
END:VTIMEZONE
BEGIN:VEVENT
UID:9b217af6-d4f2-4105-ae67-86f04cd4537c
DTSTAMP:20260423T090240Z
DESCRIPTION:FOOD PANTRY\nEmpower\nMonthly Food Pantry\n@1:00 PM\n*Resident 
 only event*
DTSTART;TZID=America/Chicago:20250527T130000
DTEND;TZID=America/Chicago:20250527T150000
LOCATION:6725 Brittmoore Road\, Houston\, TX 77041 US
SUMMARY:Brittmoore: Food Pantry
END:VEVENT
END:VCALENDAR
