BEGIN:VCALENDAR
VERSION:2.0
PRODID:-//empowercdc.org//NONSGML kigkonsult.se iCalcreator 2.30.10//
CALSCALE:GREGORIAN
METHOD:PUBLISH
UID:e940f4b8-affa-4846-920c-90b68b5b2020
X-WR-CALDESC:EXERCISE\nEmpower\nDynamic Stretch\n@ 3:00 PM\n\n*Resident onl
 y event*
X-WR-RELCALID:dcc6c907948291cd94294d4202922538
X-WR-TIMEZONE:America/Chicago
BEGIN:VTIMEZONE
TZID:America/Chicago
BEGIN:STANDARD
TZNAME:CST
DTSTART:20241103T020000
TZOFFSETFROM:-0500
TZOFFSETTO:-0600
RDATE:20251102T020000
RDATE:20261101T020000
END:STANDARD
BEGIN:DAYLIGHT
TZNAME:CDT
DTSTART:20250309T020000
TZOFFSETFROM:-0600
TZOFFSETTO:-0500
RDATE:20260308T020000
END:DAYLIGHT
END:VTIMEZONE
BEGIN:VEVENT
UID:c6e4c5cc-962c-410d-9c92-83006bec4f00
DTSTAMP:20260423T084415Z
DESCRIPTION:EXERCISE\nEmpower\nDynamic Stretch\n@ 3:00 PM\n\n*Resident only
  event*
DTSTART;TZID=America/Chicago:20250526T150000
DTEND;TZID=America/Chicago:20250526T160000
LOCATION:12353 Huffmeister Rd\, Cypress\, TX 77429 US
SUMMARY:The Meadows: Exercise
END:VEVENT
END:VCALENDAR
