BEGIN:VCALENDAR
VERSION:2.0
PRODID:-//empowercdc.org//NONSGML kigkonsult.se iCalcreator 2.30.10//
CALSCALE:GREGORIAN
METHOD:PUBLISH
UID:3459b0e1-dd20-44ce-8f96-6b8494a7fdfe
X-WR-CALDESC:ARTS & CRAFTS\nDIY Jewelry / Diamond\n@11AM\n\n*Resident only 
 event*
X-WR-RELCALID:2f660294da6244bf7ed43465ea3c3fe5
X-WR-TIMEZONE:America/Chicago
BEGIN:VTIMEZONE
TZID:America/Chicago
BEGIN:STANDARD
TZNAME:CST
DTSTART:20241103T020000
TZOFFSETFROM:-0500
TZOFFSETTO:-0600
RDATE:20251102T020000
RDATE:20261101T020000
END:STANDARD
BEGIN:DAYLIGHT
TZNAME:CDT
DTSTART:20250309T020000
TZOFFSETFROM:-0600
TZOFFSETTO:-0500
RDATE:20260308T020000
END:DAYLIGHT
END:VTIMEZONE
BEGIN:VEVENT
UID:1811834e-f438-4764-ba41-a630494133a4
DTSTAMP:20260423T091418Z
DESCRIPTION:ARTS & CRAFTS\nDIY Jewelry / Diamond\n@11AM\n\n*Resident only e
 vent*
DTSTART;TZID=America/Chicago:20250526T110000
DTEND;TZID=America/Chicago:20250526T120000
LOCATION:1717 FM359\, Richmond\, TX 77406 US
SUMMARY:Jones Creek: Arts & Crafts
END:VEVENT
END:VCALENDAR
