BEGIN:VCALENDAR
VERSION:2.0
PRODID:-//empowercdc.org//NONSGML kigkonsult.se iCalcreator 2.30.10//
CALSCALE:GREGORIAN
METHOD:PUBLISH
UID:3c32ba77-5ea9-43de-9fbd-72e5a160403c
X-WR-CALDESC:ARTS & CRAFTS\nDIY JEWERLY /\nDIAMOND ART\n@11AM\n\nEXERCISE\n
 FITNESS BINGO\n@11AM
X-WR-RELCALID:2ef247de1e4a8b763968a15f63b57f3e
X-WR-TIMEZONE:America/Chicago
BEGIN:VTIMEZONE
TZID:America/Chicago
BEGIN:STANDARD
TZNAME:CST
DTSTART:20241103T020000
TZOFFSETFROM:-0500
TZOFFSETTO:-0600
RDATE:20251102T020000
RDATE:20261101T020000
END:STANDARD
BEGIN:DAYLIGHT
TZNAME:CDT
DTSTART:20250309T020000
TZOFFSETFROM:-0600
TZOFFSETTO:-0500
RDATE:20260308T020000
END:DAYLIGHT
END:VTIMEZONE
BEGIN:VEVENT
UID:9c671205-4bf5-4481-948f-6c8c42354b53
DTSTAMP:20260423T091006Z
DESCRIPTION:ARTS & CRAFTS\nDIY JEWERLY /\nDIAMOND ART\n@11AM\n\nEXERCISE\nF
 ITNESS BINGO\n@11AM
DTSTART;TZID=America/Chicago:20250523T110000
DTEND;TZID=America/Chicago:20250523T120000
LOCATION:15707 Kuykendahl Ct\, Conroe\, TX 77384 US
SUMMARY:Kuykendalh Court: Arts & Crafts\, Exercise
END:VEVENT
END:VCALENDAR
