BEGIN:VCALENDAR
VERSION:2.0
PRODID:-//empowercdc.org//NONSGML kigkonsult.se iCalcreator 2.30.10//
CALSCALE:GREGORIAN
METHOD:PUBLISH
UID:462507dd-40c9-4219-95a3-af06f8960671
X-WR-CALDESC:SOCIAL-\nBlazer/Empower\n\nPre- Summertime\nSplash Down\n@ 3:0
 0PM
X-WR-RELCALID:b67d5b1933b02eb1420be4ed3c1f56e7
X-WR-TIMEZONE:America/Chicago
BEGIN:VTIMEZONE
TZID:America/Chicago
BEGIN:STANDARD
TZNAME:CST
DTSTART:20241103T020000
TZOFFSETFROM:-0500
TZOFFSETTO:-0600
RDATE:20251102T020000
RDATE:20261101T020000
END:STANDARD
BEGIN:DAYLIGHT
TZNAME:CDT
DTSTART:20250309T020000
TZOFFSETFROM:-0600
TZOFFSETTO:-0500
RDATE:20260308T020000
END:DAYLIGHT
END:VTIMEZONE
BEGIN:VEVENT
UID:8b4e5646-c66d-42c4-8a7c-0d51a0b18a52
DTSTAMP:20260423T090041Z
DESCRIPTION:SOCIAL-\nBlazer/Empower\n\nPre- Summertime\nSplash Down\n@ 3:00
 PM
DTSTART;TZID=America/Chicago:20250523T150000
DTEND;TZID=America/Chicago:20250523T170000
LOCATION:1830 Hollyoak Dr\, Houston\, TX 77084 US
SUMMARY:Hollyoak: Pre-Summertime Splash Down
END:VEVENT
END:VCALENDAR
