BEGIN:VCALENDAR
VERSION:2.0
PRODID:-//empowercdc.org//NONSGML kigkonsult.se iCalcreator 2.30.10//
CALSCALE:GREGORIAN
METHOD:PUBLISH
UID:02984cf9-5f24-4541-bd48-09e81aee2400
X-WR-CALDESC:SOCIAL- Empower\nBirthday Social\n@2:00PM\n\nARTS & CRAFTS-\nE
 mpower\n\nAffirmation Jars\n@3:00PM
X-WR-RELCALID:57bc0fff5d5160ff56513e787def08da
X-WR-TIMEZONE:America/Chicago
BEGIN:VTIMEZONE
TZID:America/Chicago
BEGIN:STANDARD
TZNAME:CST
DTSTART:20241103T020000
TZOFFSETFROM:-0500
TZOFFSETTO:-0600
RDATE:20251102T020000
RDATE:20261101T020000
END:STANDARD
BEGIN:DAYLIGHT
TZNAME:CDT
DTSTART:20250309T020000
TZOFFSETFROM:-0600
TZOFFSETTO:-0500
RDATE:20260308T020000
END:DAYLIGHT
END:VTIMEZONE
BEGIN:VEVENT
UID:51b6c0f1-8fe6-4586-829d-b1ec47d78007
DTSTAMP:20260423T090716Z
DESCRIPTION:SOCIAL- Empower\nBirthday Social\n@2:00PM\n\nARTS & CRAFTS-\nEm
 power\n\nAffirmation Jars\n@3:00PM
DTSTART;TZID=America/Chicago:20250522T130000
DTEND;TZID=America/Chicago:20250522T150000
LOCATION:325 Flagship Boulevard\, Montgomery\, TX 77316 US
SUMMARY:The Heritage: Social\, Arts & Crafts
END:VEVENT
END:VCALENDAR
