BEGIN:VCALENDAR
VERSION:2.0
PRODID:-//empowercdc.org//NONSGML kigkonsult.se iCalcreator 2.30.10//
CALSCALE:GREGORIAN
METHOD:PUBLISH
UID:c715eab0-2001-4320-9cd1-14a615e36acc
X-WR-CALDESC:SOCIAL-Suvida\nBingo Bonanza\n@ 12:00PM
X-WR-RELCALID:62f46896aed4e4ff49ca3e0eaca23ee4
X-WR-TIMEZONE:America/Chicago
BEGIN:VTIMEZONE
TZID:America/Chicago
BEGIN:STANDARD
TZNAME:CST
DTSTART:20241103T020000
TZOFFSETFROM:-0500
TZOFFSETTO:-0600
RDATE:20251102T020000
RDATE:20261101T020000
END:STANDARD
BEGIN:DAYLIGHT
TZNAME:CDT
DTSTART:20250309T020000
TZOFFSETFROM:-0600
TZOFFSETTO:-0500
RDATE:20260308T020000
END:DAYLIGHT
END:VTIMEZONE
BEGIN:VEVENT
UID:3fd29da0-62ef-49ac-a866-33e853d51a6d
DTSTAMP:20260423T090402Z
DESCRIPTION:SOCIAL-Suvida\nBingo Bonanza\n@ 12:00PM
DTSTART;TZID=America/Chicago:20250522T120000
DTEND;TZID=America/Chicago:20250522T140000
LOCATION:1830 Hollyoak Dr\, Houston\, TX 77084 US
SUMMARY:Hollyoak: Bingo Bonanza
END:VEVENT
END:VCALENDAR
