BEGIN:VCALENDAR
VERSION:2.0
PRODID:-//empowercdc.org//NONSGML kigkonsult.se iCalcreator 2.30.10//
CALSCALE:GREGORIAN
METHOD:PUBLISH
UID:6f0f2ac9-4dda-4046-a285-7ccae9816ed2
X-WR-CALDESC:SOCIAL - Empower\nBirthday Social\n@ 3:00 PM\n*Resident only e
 vent*
X-WR-RELCALID:d816768e3fdfcb78f34094a71dc86994
X-WR-TIMEZONE:America/Chicago
BEGIN:VTIMEZONE
TZID:America/Chicago
BEGIN:STANDARD
TZNAME:CST
DTSTART:20241103T020000
TZOFFSETFROM:-0500
TZOFFSETTO:-0600
RDATE:20251102T020000
RDATE:20261101T020000
END:STANDARD
BEGIN:DAYLIGHT
TZNAME:CDT
DTSTART:20250309T020000
TZOFFSETFROM:-0600
TZOFFSETTO:-0500
RDATE:20260308T020000
END:DAYLIGHT
END:VTIMEZONE
BEGIN:VEVENT
UID:4ad49955-52a0-484c-9722-2a31ceecaac8
DTSTAMP:20260423T084533Z
DESCRIPTION:SOCIAL - Empower\nBirthday Social\n@ 3:00 PM\n*Resident only ev
 ent*
DTSTART;TZID=America/Chicago:20250522T150000
DTEND;TZID=America/Chicago:20250522T170000
LOCATION:6725 Brittmoore Road\, Houston\, TX 77041 US
SUMMARY:Brittmoore: Social
END:VEVENT
END:VCALENDAR
