BEGIN:VCALENDAR
VERSION:2.0
PRODID:-//empowercdc.org//NONSGML kigkonsult.se iCalcreator 2.30.10//
CALSCALE:GREGORIAN
METHOD:PUBLISH
UID:51f10ccc-5007-4e61-9ad9-2afca66e64d0
X-WR-CALDESC:EXERCISE- Cedar\nFitness Bingo\n@11:00AM
X-WR-RELCALID:e35f94c240c2671dc893d39c92e80188
X-WR-TIMEZONE:America/Chicago
BEGIN:VTIMEZONE
TZID:America/Chicago
BEGIN:STANDARD
TZNAME:CST
DTSTART:20241103T020000
TZOFFSETFROM:-0500
TZOFFSETTO:-0600
RDATE:20251102T020000
RDATE:20261101T020000
END:STANDARD
BEGIN:DAYLIGHT
TZNAME:CDT
DTSTART:20250309T020000
TZOFFSETFROM:-0600
TZOFFSETTO:-0500
RDATE:20260308T020000
END:DAYLIGHT
END:VTIMEZONE
BEGIN:VEVENT
UID:8c3a8ac3-17e9-4e2a-9478-57363b800a9d
DTSTAMP:20260423T084512Z
DESCRIPTION:EXERCISE- Cedar\nFitness Bingo\n@11:00AM
DTSTART;TZID=America/Chicago:20250520T110000
DTEND;TZID=America/Chicago:20250520T120000
LOCATION:1830 Hollyoak Dr\, Houston\, TX 77084 US
SUMMARY:Hollyoak: Exercise
END:VEVENT
END:VCALENDAR
