BEGIN:VCALENDAR
VERSION:2.0
PRODID:-//empowercdc.org//NONSGML kigkonsult.se iCalcreator 2.30.10//
CALSCALE:GREGORIAN
METHOD:PUBLISH
UID:b4c79ec0-0b47-4574-8787-9452a45a08c9
X-WR-CALDESC:ARTS & CRAFTS\nSUMMER FLIP-FLOPS\n@11AM\n\n*Resident only even
 t*
X-WR-RELCALID:bbefcaba7ed7f5020dc62a204ee70d07
X-WR-TIMEZONE:America/Chicago
BEGIN:VTIMEZONE
TZID:America/Chicago
BEGIN:STANDARD
TZNAME:CST
DTSTART:20241103T020000
TZOFFSETFROM:-0500
TZOFFSETTO:-0600
RDATE:20251102T020000
RDATE:20261101T020000
END:STANDARD
BEGIN:DAYLIGHT
TZNAME:CDT
DTSTART:20250309T020000
TZOFFSETFROM:-0600
TZOFFSETTO:-0500
RDATE:20260308T020000
END:DAYLIGHT
END:VTIMEZONE
BEGIN:VEVENT
UID:4620133e-1ce5-4a52-ac56-e9adf3a5637c
DTSTAMP:20260423T090246Z
DESCRIPTION:ARTS & CRAFTS\nSUMMER FLIP-FLOPS\n@11AM\n\n*Resident only event
 *
DTSTART;TZID=America/Chicago:20250519T110000
DTEND;TZID=America/Chicago:20250519T120000
LOCATION:1717 FM359\, Richmond\, TX 77406 US
SUMMARY:Jones Creek: Arts & Crafts
END:VEVENT
END:VCALENDAR
