BEGIN:VCALENDAR
VERSION:2.0
PRODID:-//empowercdc.org//NONSGML kigkonsult.se iCalcreator 2.30.10//
CALSCALE:GREGORIAN
METHOD:PUBLISH
UID:c35a355f-7695-4b2f-ad07-430920831d94
X-WR-CALDESC:Character Building\nEmpower\nMental Health\nAwareness\n@3:00 P
 M\n\nARTS & CRAFTS\nEmpower\nCinco De Mayo\nColoring\n@4:00 PM\n\n*Residen
 t only event*
X-WR-RELCALID:7f20ecb02378e7a6eea518dfd312186d
X-WR-TIMEZONE:America/Chicago
BEGIN:VTIMEZONE
TZID:America/Chicago
BEGIN:STANDARD
TZNAME:CST
DTSTART:20241103T020000
TZOFFSETFROM:-0500
TZOFFSETTO:-0600
RDATE:20251102T020000
RDATE:20261101T020000
END:STANDARD
BEGIN:DAYLIGHT
TZNAME:CDT
DTSTART:20250309T020000
TZOFFSETFROM:-0600
TZOFFSETTO:-0500
RDATE:20260308T020000
END:DAYLIGHT
END:VTIMEZONE
BEGIN:VEVENT
UID:581c15df-db3d-413d-88a5-1fd1d4759c89
DTSTAMP:20260423T085946Z
DESCRIPTION:Character Building\nEmpower\nMental Health\nAwareness\n@3:00 PM
 \n\nARTS & CRAFTS\nEmpower\nCinco De Mayo\nColoring\n@4:00 PM\n\n*Resident
  only event*
DTSTART;TZID=America/Chicago:20250516T150000
DTEND;TZID=America/Chicago:20250516T160000
LOCATION:12353 Huffmeister Rd\, Cypress\, TX 77429 US
SUMMARY:The Meadows: Character Building
END:VEVENT
END:VCALENDAR
