BEGIN:VCALENDAR
VERSION:2.0
PRODID:-//empowercdc.org//NONSGML kigkonsult.se iCalcreator 2.30.10//
CALSCALE:GREGORIAN
METHOD:PUBLISH
UID:4969fb3c-d219-4306-a036-5f9cf2c345b0
X-WR-CALDESC:EXERCISE-\nUnity Fitness\n\nChair Dance\n@10:00 AM
X-WR-RELCALID:98a89aa668a5ca137a65d247e6448d4e
X-WR-TIMEZONE:America/Chicago
BEGIN:VTIMEZONE
TZID:America/Chicago
BEGIN:STANDARD
TZNAME:CST
DTSTART:20241103T020000
TZOFFSETFROM:-0500
TZOFFSETTO:-0600
RDATE:20251102T020000
RDATE:20261101T020000
END:STANDARD
BEGIN:DAYLIGHT
TZNAME:CDT
DTSTART:20250309T020000
TZOFFSETFROM:-0600
TZOFFSETTO:-0500
RDATE:20260308T020000
END:DAYLIGHT
END:VTIMEZONE
BEGIN:VEVENT
UID:ae7f040a-bc5a-4510-b3c4-70c149b3d785
DTSTAMP:20260423T090230Z
DESCRIPTION:EXERCISE-\nUnity Fitness\n\nChair Dance\n@10:00 AM
DTSTART;TZID=America/Chicago:20250516T110000
DTEND;TZID=America/Chicago:20250516T120000
LOCATION:1830 Hollyoak Dr\, Houston\, TX 77084 US
SUMMARY:Hollyoak: Arts & Crafts
END:VEVENT
END:VCALENDAR
