BEGIN:VCALENDAR
VERSION:2.0
PRODID:-//empowercdc.org//NONSGML kigkonsult.se iCalcreator 2.30.10//
CALSCALE:GREGORIAN
METHOD:PUBLISH
UID:ffcfc6c6-7d2d-4b75-8067-d15d388add61
X-WR-CALDESC:EXERCISE\nFITNESS BINGO\n@10AM\n\n*Resident only event*
X-WR-RELCALID:373ce7d7df981733aaf2140de5d5ce40
X-WR-TIMEZONE:America/Chicago
BEGIN:VTIMEZONE
TZID:America/Chicago
BEGIN:STANDARD
TZNAME:CST
DTSTART:20241103T020000
TZOFFSETFROM:-0500
TZOFFSETTO:-0600
RDATE:20251102T020000
RDATE:20261101T020000
END:STANDARD
BEGIN:DAYLIGHT
TZNAME:CDT
DTSTART:20250309T020000
TZOFFSETFROM:-0600
TZOFFSETTO:-0500
RDATE:20260308T020000
END:DAYLIGHT
END:VTIMEZONE
BEGIN:VEVENT
UID:4fd55e7e-b796-4120-8829-d9d060562d8c
DTSTAMP:20260423T084532Z
DESCRIPTION:EXERCISE\nFITNESS BINGO\n@10AM\n\n*Resident only event*
DTSTART;TZID=America/Chicago:20250515T100000
DTEND;TZID=America/Chicago:20250515T110000
LOCATION:1717 FM359\, Richmond\, TX 77406 US
SUMMARY:Jones Creek: Exercise
END:VEVENT
END:VCALENDAR
