BEGIN:VCALENDAR
VERSION:2.0
PRODID:-//empowercdc.org//NONSGML kigkonsult.se iCalcreator 2.30.10//
CALSCALE:GREGORIAN
METHOD:PUBLISH
UID:5d9a0057-de8c-4cbe-9f0e-2947872a3ba1
X-WR-CALDESC:EXERCISE-\nUnity Fitness\n\nChair Dance\n@10:00 AM
X-WR-RELCALID:dfee55185c6043ce661d96224f752759
X-WR-TIMEZONE:America/Chicago
BEGIN:VTIMEZONE
TZID:America/Chicago
BEGIN:STANDARD
TZNAME:CST
DTSTART:20241103T020000
TZOFFSETFROM:-0500
TZOFFSETTO:-0600
RDATE:20251102T020000
RDATE:20261101T020000
END:STANDARD
BEGIN:DAYLIGHT
TZNAME:CDT
DTSTART:20250309T020000
TZOFFSETFROM:-0600
TZOFFSETTO:-0500
RDATE:20260308T020000
END:DAYLIGHT
END:VTIMEZONE
BEGIN:VEVENT
UID:760b4e0c-7d9c-4279-bbc0-9c19142f5caf
DTSTAMP:20260423T084512Z
DESCRIPTION:EXERCISE-\nUnity Fitness\n\nChair Dance\n@10:00 AM
DTSTART;TZID=America/Chicago:20250514T100000
DTEND;TZID=America/Chicago:20250514T110000
LOCATION:1830 Hollyoak Dr\, Houston\, TX 77084 US
SUMMARY:Hollyoak:Exercise
END:VEVENT
END:VCALENDAR
