BEGIN:VCALENDAR
VERSION:2.0
PRODID:-//empowercdc.org//NONSGML kigkonsult.se iCalcreator 2.30.10//
CALSCALE:GREGORIAN
METHOD:PUBLISH
UID:e4b7ba70-4414-4260-93c4-1d69c504fab0
X-WR-CALDESC:FOOD PANTRY\n@2:30PM\nTX SMP\n@3PM\n\n*Resident only event*
X-WR-RELCALID:6723f6c394101479ce96a802667f38d6
X-WR-TIMEZONE:America/Chicago
BEGIN:VTIMEZONE
TZID:America/Chicago
BEGIN:STANDARD
TZNAME:CST
DTSTART:20241103T020000
TZOFFSETFROM:-0500
TZOFFSETTO:-0600
RDATE:20251102T020000
RDATE:20261101T020000
END:STANDARD
BEGIN:DAYLIGHT
TZNAME:CDT
DTSTART:20250309T020000
TZOFFSETFROM:-0600
TZOFFSETTO:-0500
RDATE:20260308T020000
END:DAYLIGHT
END:VTIMEZONE
BEGIN:VEVENT
UID:27295979-6bf4-4fbe-bf9d-6be981d0f2ee
DTSTAMP:20260423T090736Z
DESCRIPTION:FOOD PANTRY\n@2:30PM\nTX SMP\n@3PM\n\n*Resident only event*
DTSTART;TZID=America/Chicago:20250513T143000
DTEND;TZID=America/Chicago:20250513T160000
LOCATION:1620 Spencer Hwy\, South Houston\, TX 77587 US
SUMMARY:Windsor Gardens: Food Pantry\, TXSMP
END:VEVENT
END:VCALENDAR
