BEGIN:VCALENDAR
VERSION:2.0
PRODID:-//empowercdc.org//NONSGML kigkonsult.se iCalcreator 2.30.10//
CALSCALE:GREGORIAN
METHOD:PUBLISH
UID:1b9a845c-a404-4d13-a5db-bbda0b5fae0c
X-WR-CALDESC:EXERCISE\nEmpower\nDynamic Stretch\n@ 3:00 PM\n\nARTS & CRAFTS
 \nEmpower\nCinco De Mayo\nColoring\n@4:00 PM\n\n*Resident only event*
X-WR-RELCALID:c388a4b0876e1b9ed94b7abca7982f04
X-WR-TIMEZONE:America/Chicago
BEGIN:VTIMEZONE
TZID:America/Chicago
BEGIN:STANDARD
TZNAME:CST
DTSTART:20241103T020000
TZOFFSETFROM:-0500
TZOFFSETTO:-0600
RDATE:20251102T020000
RDATE:20261101T020000
END:STANDARD
BEGIN:DAYLIGHT
TZNAME:CDT
DTSTART:20250309T020000
TZOFFSETFROM:-0600
TZOFFSETTO:-0500
RDATE:20260308T020000
END:DAYLIGHT
END:VTIMEZONE
BEGIN:VEVENT
UID:46b72a08-373d-4001-bc6f-ee97b1993ae4
DTSTAMP:20260423T090041Z
DESCRIPTION:EXERCISE\nEmpower\nDynamic Stretch\n@ 3:00 PM\n\nARTS & CRAFTS
 \nEmpower\nCinco De Mayo\nColoring\n@4:00 PM\n\n*Resident only event*
DTSTART;TZID=America/Chicago:20250512T150000
DTEND;TZID=America/Chicago:20250512T170000
LOCATION:12353 Huffmeister Rd\, Cypress\, TX 77429 US
SUMMARY:The Meadows: Exercise\, Arts & Crafts
END:VEVENT
END:VCALENDAR
