BEGIN:VCALENDAR
VERSION:2.0
PRODID:-//empowercdc.org//NONSGML kigkonsult.se iCalcreator 2.30.10//
CALSCALE:GREGORIAN
METHOD:PUBLISH
UID:c1c32575-58ce-4e78-8eae-8f4c910c6edb
X-WR-CALDESC:SENIOR LITERACY 101\nTroubleshooting and\nProblem-Solving\n@10
 AM\n\n*Resident only event*
X-WR-RELCALID:4dc529633aa67309f4406ac490efd065
X-WR-TIMEZONE:America/Chicago
BEGIN:VTIMEZONE
TZID:America/Chicago
BEGIN:STANDARD
TZNAME:CST
DTSTART:20241103T020000
TZOFFSETFROM:-0500
TZOFFSETTO:-0600
RDATE:20251102T020000
RDATE:20261101T020000
END:STANDARD
BEGIN:DAYLIGHT
TZNAME:CDT
DTSTART:20250309T020000
TZOFFSETFROM:-0600
TZOFFSETTO:-0500
RDATE:20260308T020000
END:DAYLIGHT
END:VTIMEZONE
BEGIN:VEVENT
UID:ae7abaa5-f090-4ba1-acf9-6519117daf2e
DTSTAMP:20260423T090654Z
DESCRIPTION:SENIOR LITERACY 101\nTroubleshooting and\nProblem-Solving\n@10A
 M\n\n*Resident only event*
DTSTART;TZID=America/Chicago:20250512T100000
DTEND;TZID=America/Chicago:20250512T110000
LOCATION:1717 FM359\, Richmond\, TX 77406 US
SUMMARY:Jones Creek: Senior Literacy 101
END:VEVENT
END:VCALENDAR
