BEGIN:VCALENDAR
VERSION:2.0
PRODID:-//empowercdc.org//NONSGML kigkonsult.se iCalcreator 2.30.10//
CALSCALE:GREGORIAN
METHOD:PUBLISH
UID:2fefc943-3529-41b0-8e51-aa1ad5feae6f
X-WR-CALDESC:ARTS & CRAFTS-\nDoTerra\n\nMother’s Day\nPerfume @10 AM\n\nSOC
 IAL- LHB\nPre-Mother’s Day\nSocial\n@ 11:00AM
X-WR-RELCALID:3d85e2493b0626bee6751a65e72a64d5
X-WR-TIMEZONE:America/Chicago
BEGIN:VTIMEZONE
TZID:America/Chicago
BEGIN:STANDARD
TZNAME:CST
DTSTART:20241103T020000
TZOFFSETFROM:-0500
TZOFFSETTO:-0600
RDATE:20251102T020000
RDATE:20261101T020000
END:STANDARD
BEGIN:DAYLIGHT
TZNAME:CDT
DTSTART:20250309T020000
TZOFFSETFROM:-0600
TZOFFSETTO:-0500
RDATE:20260308T020000
END:DAYLIGHT
END:VTIMEZONE
BEGIN:VEVENT
UID:0ef1c82d-e853-4d31-8790-9ca1a2fe1e9e
DTSTAMP:20260423T090710Z
DESCRIPTION:ARTS & CRAFTS-\nDoTerra\n\nMother’s Day\nPerfume @10 AM\n\nSOCI
 AL- LHB\nPre-Mother’s Day\nSocial\n@ 11:00AM
DTSTART;TZID=America/Chicago:20250509T100000
DTEND;TZID=America/Chicago:20250509T120000
LOCATION:1830 Hollyoak Dr\, Houston\, TX 77084 US
SUMMARY:Hollyoak: Arts & Crafts\, Social
END:VEVENT
END:VCALENDAR
