BEGIN:VCALENDAR
VERSION:2.0
PRODID:-//empowercdc.org//NONSGML kigkonsult.se iCalcreator 2.30.10//
CALSCALE:GREGORIAN
METHOD:PUBLISH
UID:a4022d0b-f3cf-4cf4-a61e-736a0a2607be
X-WR-CALDESC:CHARACTER BUILDING/\nTxSMP-Empower\nCharity/TxSMP\n@ 1:00PM
X-WR-RELCALID:9bc1ca31ac274ed5c8866fc4c8bca3b2
X-WR-TIMEZONE:America/Chicago
BEGIN:VTIMEZONE
TZID:America/Chicago
BEGIN:STANDARD
TZNAME:CST
DTSTART:20241103T020000
TZOFFSETFROM:-0500
TZOFFSETTO:-0600
RDATE:20251102T020000
RDATE:20261101T020000
END:STANDARD
BEGIN:DAYLIGHT
TZNAME:CDT
DTSTART:20250309T020000
TZOFFSETFROM:-0600
TZOFFSETTO:-0500
RDATE:20260308T020000
END:DAYLIGHT
END:VTIMEZONE
BEGIN:VEVENT
UID:a8f83a78-b91b-4255-b346-4b519c59e874
DTSTAMP:20260423T090319Z
DESCRIPTION:CHARACTER BUILDING/\nTxSMP-Empower\nCharity/TxSMP\n@ 1:00PM
DTSTART;TZID=America/Chicago:20250508T130000
DTEND;TZID=America/Chicago:20250508T150000
LOCATION:325 Flagship Boulevard\, Montgomery\, TX 77316 US
SUMMARY:The Heritage: Character Building\, TX SMP
END:VEVENT
END:VCALENDAR
