BEGIN:VCALENDAR
VERSION:2.0
PRODID:-//empowercdc.org//NONSGML kigkonsult.se iCalcreator 2.30.10//
CALSCALE:GREGORIAN
METHOD:PUBLISH
UID:57b92ddd-96fb-4d65-87f6-3ba72ffb7b27
X-WR-CALDESC:EXERCISE\nFITNESS BINGO\n@10AM\nSOCIAL\nCP-CAPTION CALL\nMOTHE
 R’S DAY BRUNCH\n@11AM\n\nSOCIAL\nARIES/ TAURUA BIRTHDAY\n@11AM\n\nSENIOR L
 ITERACY 101\nINTRO TO EMAIL\n\n*Resident only event*
X-WR-RELCALID:aa587dc22f5b4b7d4812ab9ad811cd89
X-WR-TIMEZONE:America/Chicago
BEGIN:VTIMEZONE
TZID:America/Chicago
BEGIN:STANDARD
TZNAME:CST
DTSTART:20241103T020000
TZOFFSETFROM:-0500
TZOFFSETTO:-0600
RDATE:20251102T020000
RDATE:20261101T020000
END:STANDARD
BEGIN:DAYLIGHT
TZNAME:CDT
DTSTART:20250309T020000
TZOFFSETFROM:-0600
TZOFFSETTO:-0500
RDATE:20260308T020000
END:DAYLIGHT
END:VTIMEZONE
BEGIN:VEVENT
UID:a52aa606-3ad2-4b71-8cf8-49c3c1c0f27e
DTSTAMP:20260423T090121Z
DESCRIPTION:EXERCISE\nFITNESS BINGO\n@10AM\nSOCIAL\nCP-CAPTION CALL\nMOTHER
 ’S DAY BRUNCH\n@11AM\n\nSOCIAL\nARIES/ TAURUA BIRTHDAY\n@11AM\n\nSENIOR LI
 TERACY 101\nINTRO TO EMAIL\n\n*Resident only event*
DTSTART;TZID=America/Chicago:20250508T100000
DTEND;TZID=America/Chicago:20250508T120000
LOCATION:1717 FM359\, Richmond\, TX 77406 US
SUMMARY:Jones Creek: Exercise\, Social
END:VEVENT
END:VCALENDAR
