BEGIN:VCALENDAR
VERSION:2.0
PRODID:-//empowercdc.org//NONSGML kigkonsult.se iCalcreator 2.30.10//
CALSCALE:GREGORIAN
METHOD:PUBLISH
UID:ca2fc7c7-829a-4554-8ddb-91b2ba9a2e2e
X-WR-CALDESC:SOCIAL\nCP- CAPTION CALL\nBIRTHDAY BINGO\n@11AM
X-WR-RELCALID:38ecc2d067d041ced91f7f901d0f1b21
X-WR-TIMEZONE:America/Chicago
BEGIN:VTIMEZONE
TZID:America/Chicago
BEGIN:STANDARD
TZNAME:CST
DTSTART:20241103T020000
TZOFFSETFROM:-0500
TZOFFSETTO:-0600
RDATE:20251102T020000
RDATE:20261101T020000
END:STANDARD
BEGIN:DAYLIGHT
TZNAME:CDT
DTSTART:20250309T020000
TZOFFSETFROM:-0600
TZOFFSETTO:-0500
RDATE:20260308T020000
END:DAYLIGHT
END:VTIMEZONE
BEGIN:VEVENT
UID:b0a522a1-fd1e-4f84-8030-9809a74df517
DTSTAMP:20260423T091036Z
DESCRIPTION:SOCIAL\nCP- CAPTION CALL\nBIRTHDAY BINGO\n@11AM
DTSTART;TZID=America/Chicago:20250506T140000
DTEND;TZID=America/Chicago:20250506T150000
LOCATION:15707 Kuykendahl Ct\, Conroe\, TX 77384 US
SUMMARY:Kuykendalh Court: Social
END:VEVENT
END:VCALENDAR
