BEGIN:VCALENDAR
VERSION:2.0
PRODID:-//empowercdc.org//NONSGML kigkonsult.se iCalcreator 2.30.10//
CALSCALE:GREGORIAN
METHOD:PUBLISH
UID:ebce1032-d067-47f9-88d7-9f719fe6bf25
X-WR-CALDESC:OUT REACH & EDUCATION\nCP-LOCAL BENEFITS\nCOKES AND FLOATS\n@2
 PM
X-WR-RELCALID:fad7322e3d902e2e62684c69a3a90fd9
X-WR-TIMEZONE:America/Chicago
BEGIN:VTIMEZONE
TZID:America/Chicago
BEGIN:STANDARD
TZNAME:CST
DTSTART:20241103T020000
TZOFFSETFROM:-0500
TZOFFSETTO:-0600
RDATE:20251102T020000
RDATE:20261101T020000
END:STANDARD
BEGIN:DAYLIGHT
TZNAME:CDT
DTSTART:20250309T020000
TZOFFSETFROM:-0600
TZOFFSETTO:-0500
RDATE:20260308T020000
END:DAYLIGHT
END:VTIMEZONE
BEGIN:VEVENT
UID:4b463e90-38d4-44a7-8a9c-764a76255246
DTSTAMP:20260423T091151Z
DESCRIPTION:OUT REACH & EDUCATION\nCP-LOCAL BENEFITS\nCOKES AND FLOATS\n@2P
 M
DTSTART;TZID=America/Chicago:20250506T140000
DTEND;TZID=America/Chicago:20250506T150000
LOCATION:15707 Kuykendahl Ct\, Conroe\, TX 77384 US
SUMMARY:Kuykendalh Court: Out Reach & Education
END:VEVENT
END:VCALENDAR
