BEGIN:VCALENDAR
VERSION:2.0
PRODID:-//empowercdc.org//NONSGML kigkonsult.se iCalcreator 2.30.10//
CALSCALE:GREGORIAN
METHOD:PUBLISH
UID:62954567-a137-43b8-93ac-39ca740cee51
X-WR-CALDESC:ARTS & CRAFTS\nEmpower\nMother’s Day Cards\n@3:00 PM\n*Residen
 t only event*
X-WR-RELCALID:10dd89ce4b26107e5bb6fc54b94aa557
X-WR-TIMEZONE:America/Chicago
BEGIN:VTIMEZONE
TZID:America/Chicago
BEGIN:STANDARD
TZNAME:CST
DTSTART:20241103T020000
TZOFFSETFROM:-0500
TZOFFSETTO:-0600
RDATE:20251102T020000
RDATE:20261101T020000
END:STANDARD
BEGIN:DAYLIGHT
TZNAME:CDT
DTSTART:20250309T020000
TZOFFSETFROM:-0600
TZOFFSETTO:-0500
RDATE:20260308T020000
END:DAYLIGHT
END:VTIMEZONE
BEGIN:VEVENT
UID:202fe698-da72-40b6-b8a0-0c2aafdf3afc
DTSTAMP:20260423T090047Z
DESCRIPTION:ARTS & CRAFTS\nEmpower\nMother’s Day Cards\n@3:00 PM\n*Resident
  only event*
DTSTART;TZID=America/Chicago:20250506T150000
DTEND;TZID=America/Chicago:20250506T160000
LOCATION:6725 Brittmoore Road\, Houston\, TX 77041 US
SUMMARY:Brittmoore: Arts & Crafts
END:VEVENT
END:VCALENDAR
