BEGIN:VCALENDAR
VERSION:2.0
PRODID:-//empowercdc.org//NONSGML kigkonsult.se iCalcreator 2.30.10//
CALSCALE:GREGORIAN
METHOD:PUBLISH
UID:a79524fc-76a5-4e1e-9729-033d3c448113
X-WR-CALDESC:TX SMP\n@10:30AM\nEXERCISE\nFITNESS BINGO\n@11AM\n\nSOCIAL\nMO
 THER’S DAY BRUNCH\n@11:30AM
X-WR-RELCALID:b169ef2170578eb1edb9152f59c20600
X-WR-TIMEZONE:America/Chicago
BEGIN:VTIMEZONE
TZID:America/Chicago
BEGIN:STANDARD
TZNAME:CST
DTSTART:20241103T020000
TZOFFSETFROM:-0500
TZOFFSETTO:-0600
RDATE:20251102T020000
RDATE:20261101T020000
END:STANDARD
BEGIN:DAYLIGHT
TZNAME:CDT
DTSTART:20250309T020000
TZOFFSETFROM:-0600
TZOFFSETTO:-0500
RDATE:20260308T020000
END:DAYLIGHT
END:VTIMEZONE
BEGIN:VEVENT
UID:e61beb41-1f0c-4065-b3e7-15de0377f34f
DTSTAMP:20260423T091139Z
DESCRIPTION:TX SMP\n@10:30AM\nEXERCISE\nFITNESS BINGO\n@11AM\n\nSOCIAL\nMOT
 HER’S DAY BRUNCH\n@11:30AM
DTSTART;TZID=America/Chicago:20250502T103000
DTEND;TZID=America/Chicago:20250502T123000
LOCATION:15707 Kuykendahl Ct\, Conroe\, TX 77384 US
SUMMARY:Kuykendalh Court: TX SMP\, Social
END:VEVENT
END:VCALENDAR
