BEGIN:VCALENDAR
VERSION:2.0
PRODID:-//empowercdc.org//NONSGML kigkonsult.se iCalcreator 2.30.10//
CALSCALE:GREGORIAN
METHOD:PUBLISH
UID:a67c8ed8-c501-4771-9acb-b6d9a8f25229
X-WR-CALDESC:SOCIAL- Centerwell\nIce Cream Social\n@ 11:30AM
X-WR-RELCALID:efe48a8e5ac09b5e438ecbb89866c6a6
X-WR-TIMEZONE:America/Chicago
BEGIN:VTIMEZONE
TZID:America/Chicago
BEGIN:STANDARD
TZNAME:CST
DTSTART:20241103T020000
TZOFFSETFROM:-0500
TZOFFSETTO:-0600
RDATE:20251102T020000
RDATE:20261101T020000
END:STANDARD
BEGIN:DAYLIGHT
TZNAME:CDT
DTSTART:20250309T020000
TZOFFSETFROM:-0600
TZOFFSETTO:-0500
RDATE:20260308T020000
END:DAYLIGHT
END:VTIMEZONE
BEGIN:VEVENT
UID:a33741f7-7672-439c-a052-bcbed9edc915
DTSTAMP:20260423T090209Z
DESCRIPTION:SOCIAL- Centerwell\nIce Cream Social\n@ 11:30AM
DTSTART;TZID=America/Chicago:20250502T113000
DTEND;TZID=America/Chicago:20250502T133000
LOCATION:1830 Hollyoak Dr\, Houston\, TX 77084 US
SUMMARY:Hollyoak: Social
END:VEVENT
END:VCALENDAR
