BEGIN:VCALENDAR
VERSION:2.0
PRODID:-//empowercdc.org//NONSGML kigkonsult.se iCalcreator 2.30.10//
CALSCALE:GREGORIAN
METHOD:PUBLISH
UID:94bad9d5-957f-42a6-b1a3-54294d83a5a3
X-WR-CALDESC:EXERCISE-Suvida\nZumba Chair Fitness\n@ 10:30 AM
X-WR-RELCALID:3fe06b69e666e41e347a2c75b35d2a74
X-WR-TIMEZONE:America/Chicago
BEGIN:VTIMEZONE
TZID:America/Chicago
BEGIN:STANDARD
TZNAME:CST
DTSTART:20241103T020000
TZOFFSETFROM:-0500
TZOFFSETTO:-0600
RDATE:20251102T020000
END:STANDARD
BEGIN:DAYLIGHT
TZNAME:CDT
DTSTART:20250309T020000
TZOFFSETFROM:-0600
TZOFFSETTO:-0500
RDATE:20260308T020000
END:DAYLIGHT
END:VTIMEZONE
BEGIN:VEVENT
UID:5f407f1a-ddaa-49ee-9ffb-afdf1fdb7545
DTSTAMP:20260423T072320Z
DESCRIPTION:EXERCISE-Suvida\nZumba Chair Fitness\n@ 10:30 AM
DTSTART;TZID=America/Chicago:20250429T110000
DTEND;TZID=America/Chicago:20250429T120000
LOCATION:1830 Hollyoak Dr\, Houston\, TX 77084 US
SUMMARY:Hollyoak: AARP
END:VEVENT
END:VCALENDAR
