BEGIN:VCALENDAR
VERSION:2.0
PRODID:-//empowercdc.org//NONSGML kigkonsult.se iCalcreator 2.30.10//
CALSCALE:GREGORIAN
METHOD:PUBLISH
UID:9ec9260b-33fc-48f9-911d-a7457d6ffb93
X-WR-CALDESC:SOCIAL - Empower\nBirthday Social\n@ 3:00 PM\n*Resident only e
 vent*
X-WR-RELCALID:f7ef28b0668891b2a24a200d2fd13d38
X-WR-TIMEZONE:America/Chicago
BEGIN:VTIMEZONE
TZID:America/Chicago
BEGIN:STANDARD
TZNAME:CST
DTSTART:20241103T020000
TZOFFSETFROM:-0500
TZOFFSETTO:-0600
RDATE:20251102T020000
END:STANDARD
BEGIN:DAYLIGHT
TZNAME:CDT
DTSTART:20250309T020000
TZOFFSETFROM:-0600
TZOFFSETTO:-0500
RDATE:20260308T020000
END:DAYLIGHT
END:VTIMEZONE
BEGIN:VEVENT
UID:3d39af9d-108d-41b0-9d59-2cb3392e18cf
DTSTAMP:20260423T072323Z
DESCRIPTION:SOCIAL - Empower\nBirthday Social\n@ 3:00 PM\n*Resident only ev
 ent*
DTSTART;TZID=America/Chicago:20250429T150000
DTEND;TZID=America/Chicago:20250429T170000
LOCATION:6725 Brittmoore Road\, Houston\, TX 77041 US
SUMMARY:Brittmoore: Social
END:VEVENT
END:VCALENDAR
