BEGIN:VCALENDAR
VERSION:2.0
PRODID:-//empowercdc.org//NONSGML kigkonsult.se iCalcreator 2.30.10//
CALSCALE:GREGORIAN
METHOD:PUBLISH
UID:a30864ef-7a87-4ce1-b1f9-957b8cf30173
X-WR-CALDESC:ARTS & CRAFTS\nDIAMOND ART\nMAGNETS\n@3PM\n\n*Resident only ev
 ent*
X-WR-RELCALID:6bf53795c8dbeb60418982f0ba458034
X-WR-TIMEZONE:America/Chicago
BEGIN:VTIMEZONE
TZID:America/Chicago
BEGIN:STANDARD
TZNAME:CST
DTSTART:20241103T020000
TZOFFSETFROM:-0500
TZOFFSETTO:-0600
RDATE:20251102T020000
END:STANDARD
BEGIN:DAYLIGHT
TZNAME:CDT
DTSTART:20250309T020000
TZOFFSETFROM:-0600
TZOFFSETTO:-0500
RDATE:20260308T020000
END:DAYLIGHT
END:VTIMEZONE
BEGIN:VEVENT
UID:7da349d2-970f-4919-8034-6e8f89a5e9c4
DTSTAMP:20260423T072322Z
DESCRIPTION:ARTS & CRAFTS\nDIAMOND ART\nMAGNETS\n@3PM\n\n*Resident only eve
 nt*
DTSTART;TZID=America/Chicago:20250428T150000
DTEND;TZID=America/Chicago:20250428T160000
LOCATION:1620 Spencer Hwy\, South Houston\, TX 77587 US
SUMMARY:Windsor Gardens: Arts & Crafts
END:VEVENT
END:VCALENDAR
