BEGIN:VCALENDAR
VERSION:2.0
PRODID:-//empowercdc.org//NONSGML kigkonsult.se iCalcreator 2.30.10//
CALSCALE:GREGORIAN
METHOD:PUBLISH
UID:288a7ea0-3682-40d4-ae64-49ae68340016
X-WR-CALDESC:HEALTH & NUTRITION\n@10AM\n\nEXERCISE\nGROUP EXERCISE\n@11AM
X-WR-RELCALID:42aeb8fead2256a11c6563bb8c271e7f
X-WR-TIMEZONE:America/Chicago
BEGIN:VTIMEZONE
TZID:America/Chicago
BEGIN:STANDARD
TZNAME:CST
DTSTART:20241103T020000
TZOFFSETFROM:-0500
TZOFFSETTO:-0600
RDATE:20251102T020000
END:STANDARD
BEGIN:DAYLIGHT
TZNAME:CDT
DTSTART:20250309T020000
TZOFFSETFROM:-0600
TZOFFSETTO:-0500
RDATE:20260308T020000
END:DAYLIGHT
END:VTIMEZONE
BEGIN:VEVENT
UID:5a587c23-442c-4b8c-9e27-0b28f2d9bfb1
DTSTAMP:20260423T073233Z
DESCRIPTION:HEALTH & NUTRITION\n@10AM\n\nEXERCISE\nGROUP EXERCISE\n@11AM
DTSTART;TZID=America/Chicago:20250425T100000
DTEND;TZID=America/Chicago:20250425T120000
LOCATION:15707 Kuykendahl Ct\, Conroe\, TX 77384 US
SUMMARY:Kuykendalh Court: Health & Nutrition\, Exercise
END:VEVENT
END:VCALENDAR
