BEGIN:VCALENDAR
VERSION:2.0
PRODID:-//empowercdc.org//NONSGML kigkonsult.se iCalcreator 2.30.10//
CALSCALE:GREGORIAN
METHOD:PUBLISH
UID:26ed37e7-f6b1-4926-b697-29af79a1d6d4
X-WR-CALDESC:EXERCISE-Suvida\nZumba Chair Fitness\n@ 10:30 AM
X-WR-RELCALID:2af45e0f8e2406b73da9a4e857e68052
X-WR-TIMEZONE:America/Chicago
BEGIN:VTIMEZONE
TZID:America/Chicago
BEGIN:STANDARD
TZNAME:CST
DTSTART:20241103T020000
TZOFFSETFROM:-0500
TZOFFSETTO:-0600
RDATE:20251102T020000
END:STANDARD
BEGIN:DAYLIGHT
TZNAME:CDT
DTSTART:20250309T020000
TZOFFSETFROM:-0600
TZOFFSETTO:-0500
RDATE:20260308T020000
END:DAYLIGHT
END:VTIMEZONE
BEGIN:VEVENT
UID:bbe44c61-4f51-4ac1-bef3-ecbfd76eaecb
DTSTAMP:20260423T072208Z
DESCRIPTION:EXERCISE-Suvida\nZumba Chair Fitness\n@ 10:30 AM
DTSTART;TZID=America/Chicago:20250425T103000
DTEND;TZID=America/Chicago:20250425T113000
LOCATION:1830 Hollyoak Dr\, Houston\, TX 77084 US
SUMMARY:Hollyoak: Exercise
END:VEVENT
END:VCALENDAR
