BEGIN:VCALENDAR
VERSION:2.0
PRODID:-//empowercdc.org//NONSGML kigkonsult.se iCalcreator 2.30.10//
CALSCALE:GREGORIAN
METHOD:PUBLISH
UID:b34a41b8-3a32-45ce-9e0c-2f390d2b303f
X-WR-CALDESC:EXERCISE\nLINE DANCE\n@2PM\n\n*Resident only event*
X-WR-RELCALID:306bfd23a99bdb8c02231d710483b4f2
X-WR-TIMEZONE:America/Chicago
BEGIN:VTIMEZONE
TZID:America/Chicago
BEGIN:STANDARD
TZNAME:CST
DTSTART:20241103T020000
TZOFFSETFROM:-0500
TZOFFSETTO:-0600
RDATE:20251102T020000
END:STANDARD
BEGIN:DAYLIGHT
TZNAME:CDT
DTSTART:20250309T020000
TZOFFSETFROM:-0600
TZOFFSETTO:-0500
RDATE:20260308T020000
END:DAYLIGHT
END:VTIMEZONE
BEGIN:VEVENT
UID:544be059-be88-4e3c-a844-e48046135275
DTSTAMP:20260423T072302Z
DESCRIPTION:EXERCISE\nLINE DANCE\n@2PM\n\n*Resident only event*
DTSTART;TZID=America/Chicago:20250424T140000
DTEND;TZID=America/Chicago:20250424T150000
LOCATION:1620 Spencer Hwy\, South Houston\, TX 77587 US
SUMMARY:Windsor Gardens: Exercise
END:VEVENT
END:VCALENDAR
