BEGIN:VCALENDAR
VERSION:2.0
PRODID:-//empowercdc.org//NONSGML kigkonsult.se iCalcreator 2.30.10//
CALSCALE:GREGORIAN
METHOD:PUBLISH
UID:606fa385-33d6-4795-a956-24834be7c674
X-WR-CALDESC:FINANCIAL PLANNING-\nEmpower\n\nThe Price is Right\n@ 2:00PM\n
 \nHEALTH & NUTRITION-\nEmpower\n\nSmoothie Gurus\n@3:00 PM
X-WR-RELCALID:8f5e0f57b3f5e9c4295a9c25eb133833
X-WR-TIMEZONE:America/Chicago
BEGIN:VTIMEZONE
TZID:America/Chicago
BEGIN:STANDARD
TZNAME:CST
DTSTART:20241103T020000
TZOFFSETFROM:-0500
TZOFFSETTO:-0600
RDATE:20251102T020000
END:STANDARD
BEGIN:DAYLIGHT
TZNAME:CDT
DTSTART:20250309T020000
TZOFFSETFROM:-0600
TZOFFSETTO:-0500
RDATE:20260308T020000
END:DAYLIGHT
END:VTIMEZONE
BEGIN:VEVENT
UID:a23cf73c-818e-43ce-a44d-c602dd56aa8d
DTSTAMP:20260423T073119Z
DESCRIPTION:FINANCIAL PLANNING-\nEmpower\n\nThe Price is Right\n@ 2:00PM\n
 \nHEALTH & NUTRITION-\nEmpower\n\nSmoothie Gurus\n@3:00 PM
DTSTART;TZID=America/Chicago:20250424T140000
DTEND;TZID=America/Chicago:20250424T160000
LOCATION:325 Flagship Boulevard\, Montgomery\, TX 77316 US
SUMMARY:The Heritage: Financial Planning\, Health & Nutrition
END:VEVENT
END:VCALENDAR
