BEGIN:VCALENDAR
VERSION:2.0
PRODID:-//empowercdc.org//NONSGML kigkonsult.se iCalcreator 2.30.10//
CALSCALE:GREGORIAN
METHOD:PUBLISH
UID:103435c8-67e3-4d51-8ed5-e94c87a88d4b
X-WR-CALDESC:ARTS & CRAFTS-\nEmpower\n\nRelaxation Bath Salt\n@10:00 AM
X-WR-RELCALID:efe7c729b25686776045c343b1e2e442
X-WR-TIMEZONE:America/Chicago
BEGIN:VTIMEZONE
TZID:America/Chicago
BEGIN:STANDARD
TZNAME:CST
DTSTART:20241103T020000
TZOFFSETFROM:-0500
TZOFFSETTO:-0600
RDATE:20251102T020000
END:STANDARD
BEGIN:DAYLIGHT
TZNAME:CDT
DTSTART:20250309T020000
TZOFFSETFROM:-0600
TZOFFSETTO:-0500
RDATE:20260308T020000
END:DAYLIGHT
END:VTIMEZONE
BEGIN:VEVENT
UID:78c377e0-e34e-47c9-9a5a-e6400ebef173
DTSTAMP:20260423T072631Z
DESCRIPTION:ARTS & CRAFTS-\nEmpower\n\nRelaxation Bath Salt\n@10:00 AM
DTSTART;TZID=America/Chicago:20250424T100000
DTEND;TZID=America/Chicago:20250424T110000
LOCATION:219 Flagship Blvd\, Montgomery\, TX 77316 US
SUMMARY:The Heritage 55+: Arts & Crafts
END:VEVENT
END:VCALENDAR
