BEGIN:VCALENDAR
VERSION:2.0
PRODID:-//empowercdc.org//NONSGML kigkonsult.se iCalcreator 2.30.10//
CALSCALE:GREGORIAN
METHOD:PUBLISH
UID:5cb7188e-9de6-4a22-900f-e0446c2642cb
X-WR-CALDESC:EXERCISE\nGROUP EXERCISE\nWORKOUT\n@10AM\n\n*Resident only eve
 nt*
X-WR-RELCALID:55f0fd4c6c52e8e36defafa0ce3aab35
X-WR-TIMEZONE:America/Chicago
BEGIN:VTIMEZONE
TZID:America/Chicago
BEGIN:STANDARD
TZNAME:CST
DTSTART:20241103T020000
TZOFFSETFROM:-0500
TZOFFSETTO:-0600
RDATE:20251102T020000
END:STANDARD
BEGIN:DAYLIGHT
TZNAME:CDT
DTSTART:20250309T020000
TZOFFSETFROM:-0600
TZOFFSETTO:-0500
RDATE:20260308T020000
END:DAYLIGHT
END:VTIMEZONE
BEGIN:VEVENT
UID:4270db9b-9393-4e23-b6ec-4423e1e5ce4b
DTSTAMP:20260423T072425Z
DESCRIPTION:EXERCISE\nGROUP EXERCISE\nWORKOUT\n@10AM\n\n*Resident only even
 t*
DTSTART;TZID=America/Chicago:20250424T100000
DTEND;TZID=America/Chicago:20250424T110000
LOCATION:1717 FM359\, Richmond\, TX 77406 US
SUMMARY:Jones Creek: Exercise
END:VEVENT
END:VCALENDAR
