BEGIN:VCALENDAR
VERSION:2.0
PRODID:-//empowercdc.org//NONSGML kigkonsult.se iCalcreator 2.30.10//
CALSCALE:GREGORIAN
METHOD:PUBLISH
UID:2acdd658-5be8-4546-8165-ccc54cb44967
X-WR-CALDESC:SENIOR LITERACY 101\nINTRO TO EMAIL/CP-TX SMP\n@11:00AM
X-WR-RELCALID:d9a2ac534ee856bc6a2c466275057e2d
X-WR-TIMEZONE:America/Chicago
BEGIN:VTIMEZONE
TZID:America/Chicago
BEGIN:STANDARD
TZNAME:CST
DTSTART:20241103T020000
TZOFFSETFROM:-0500
TZOFFSETTO:-0600
RDATE:20251102T020000
END:STANDARD
BEGIN:DAYLIGHT
TZNAME:CDT
DTSTART:20250309T020000
TZOFFSETFROM:-0600
TZOFFSETTO:-0500
RDATE:20260308T020000
END:DAYLIGHT
END:VTIMEZONE
BEGIN:VEVENT
UID:f4eda7b9-d1bb-43e3-a6ac-c4104309881d
DTSTAMP:20260423T073221Z
DESCRIPTION:SENIOR LITERACY 101\nINTRO TO EMAIL/CP-TX SMP\n@11:00AM
DTSTART;TZID=America/Chicago:20250422T110000
DTEND;TZID=America/Chicago:20250422T120000
LOCATION:15707 Kuykendahl Ct\, Conroe\, TX 77384 US
SUMMARY:Kuykendalh Court: Senior Literacy 101
END:VEVENT
END:VCALENDAR
