BEGIN:VCALENDAR
VERSION:2.0
PRODID:-//empowercdc.org//NONSGML kigkonsult.se iCalcreator 2.30.10//
CALSCALE:GREGORIAN
METHOD:PUBLISH
UID:5264928b-402f-427e-982f-97b300a11a17
X-WR-CALDESC:ARTS & CRAFTS-\nEmpower-\nEarth Day Planting\n\n@11:00 AM\n\nO
 UTREACH Empower\nEmail Account Pt. 2\n@11:00 AM
X-WR-RELCALID:bb2558b59a3586be1ddfac056ce3b19d
X-WR-TIMEZONE:America/Chicago
BEGIN:VTIMEZONE
TZID:America/Chicago
BEGIN:STANDARD
TZNAME:CST
DTSTART:20241103T020000
TZOFFSETFROM:-0500
TZOFFSETTO:-0600
RDATE:20251102T020000
END:STANDARD
BEGIN:DAYLIGHT
TZNAME:CDT
DTSTART:20250309T020000
TZOFFSETFROM:-0600
TZOFFSETTO:-0500
RDATE:20260308T020000
END:DAYLIGHT
END:VTIMEZONE
BEGIN:VEVENT
UID:7b6c3193-c11e-48bb-8e97-ded537bf8bd6
DTSTAMP:20260423T072924Z
DESCRIPTION:ARTS & CRAFTS-\nEmpower-\nEarth Day Planting\n\n@11:00 AM\n\nOU
 TREACH Empower\nEmail Account Pt. 2\n@11:00 AM
DTSTART;TZID=America/Chicago:20250422T110000
DTEND;TZID=America/Chicago:20250422T120000
LOCATION:1830 Hollyoak Dr\, Houston\, TX 77084 US
SUMMARY:Hollyoak: Arts & Crafts\, Outreach
END:VEVENT
END:VCALENDAR
