BEGIN:VCALENDAR
VERSION:2.0
PRODID:-//empowercdc.org//NONSGML kigkonsult.se iCalcreator 2.30.10//
CALSCALE:GREGORIAN
METHOD:PUBLISH
UID:e15c62c9-e2b1-494e-bf08-1840c0e4d64d
X-WR-CALDESC:SOCIAL- Empower\nPre- Earth Day Social\n@2:00PM\n\nARTS & CRAF
 TS-\nEmpower\n\nPre- Earth Day\nPlanting\n@3:00PM
X-WR-RELCALID:a134204e7689231480d9195321ee2ce3
X-WR-TIMEZONE:America/Chicago
BEGIN:VTIMEZONE
TZID:America/Chicago
BEGIN:STANDARD
TZNAME:CST
DTSTART:20241103T020000
TZOFFSETFROM:-0500
TZOFFSETTO:-0600
RDATE:20251102T020000
END:STANDARD
BEGIN:DAYLIGHT
TZNAME:CDT
DTSTART:20250309T020000
TZOFFSETFROM:-0600
TZOFFSETTO:-0500
RDATE:20260308T020000
END:DAYLIGHT
END:VTIMEZONE
BEGIN:VEVENT
UID:77b86888-6103-41df-9d29-1a7cc7db8273
DTSTAMP:20260423T072710Z
DESCRIPTION:SOCIAL- Empower\nPre- Earth Day Social\n@2:00PM\n\nARTS & CRAFT
 S-\nEmpower\n\nPre- Earth Day\nPlanting\n@3:00PM
DTSTART;TZID=America/Chicago:20250421T140000
DTEND;TZID=America/Chicago:20250421T160000
LOCATION:325 Flagship Boulevard\, Montgomery\, TX 77316 US
SUMMARY:The Heritage: Social\, Arts & Crafts
END:VEVENT
END:VCALENDAR
