BEGIN:VCALENDAR
VERSION:2.0
PRODID:-//empowercdc.org//NONSGML kigkonsult.se iCalcreator 2.30.10//
CALSCALE:GREGORIAN
METHOD:PUBLISH
UID:9fcdef8f-17b3-4796-90ef-8a5d17ad99f0
X-WR-CALDESC:FOOD PANTRY/\nTxSMP- Empower\n\nFood Pantry\n@ 2:00PM\n\nARTS 
 & CRAFTS-\nEmpower\n\nRelaxation Bath Salt\n3:30PM
X-WR-RELCALID:0a8dc1bfe652b2b58207df3538c5728e
X-WR-TIMEZONE:America/Chicago
BEGIN:VTIMEZONE
TZID:America/Chicago
BEGIN:STANDARD
TZNAME:CST
DTSTART:20241103T020000
TZOFFSETFROM:-0500
TZOFFSETTO:-0600
RDATE:20251102T020000
END:STANDARD
BEGIN:DAYLIGHT
TZNAME:CDT
DTSTART:20250309T020000
TZOFFSETFROM:-0600
TZOFFSETTO:-0500
RDATE:20260308T020000
END:DAYLIGHT
END:VTIMEZONE
BEGIN:VEVENT
UID:d9e6453a-1bc9-42a2-804d-9aaf1854bbe6
DTSTAMP:20260423T073117Z
DESCRIPTION:FOOD PANTRY/\nTxSMP- Empower\n\nFood Pantry\n@ 2:00PM\n\nARTS &
  CRAFTS-\nEmpower\n\nRelaxation Bath Salt\n3:30PM
DTSTART;TZID=America/Chicago:20250417T140000
DTEND;TZID=America/Chicago:20250417T160000
LOCATION:325 Flagship Boulevard\, Montgomery\, TX 77316 US
SUMMARY:The Heritage: Food Pantry\, Arts & Crafts
END:VEVENT
END:VCALENDAR
