BEGIN:VCALENDAR
VERSION:2.0
PRODID:-//empowercdc.org//NONSGML kigkonsult.se iCalcreator 2.30.10//
CALSCALE:GREGORIAN
METHOD:PUBLISH
UID:466972a7-a4d6-4c88-9a03-ef161c76aedf
X-WR-CALDESC:AARP - Empower\n@10:30 AM\nARTS &\n\nCRAFTS/TxSMP-\nEmpower\n
 \nPre- Earth Day Planting\n@ 11:30 AM
X-WR-RELCALID:6b898724f0986be01974ddd583f2d4c7
X-WR-TIMEZONE:America/Chicago
BEGIN:VTIMEZONE
TZID:America/Chicago
BEGIN:STANDARD
TZNAME:CST
DTSTART:20241103T020000
TZOFFSETFROM:-0500
TZOFFSETTO:-0600
RDATE:20251102T020000
END:STANDARD
BEGIN:DAYLIGHT
TZNAME:CDT
DTSTART:20250309T020000
TZOFFSETFROM:-0600
TZOFFSETTO:-0500
RDATE:20260308T020000
END:DAYLIGHT
END:VTIMEZONE
BEGIN:VEVENT
UID:d39819c2-7299-4f17-bbba-33bd28bde8e6
DTSTAMP:20260423T072721Z
DESCRIPTION:AARP - Empower\n@10:30 AM\nARTS &\n\nCRAFTS/TxSMP-\nEmpower\n\n
 Pre- Earth Day Planting\n@ 11:30 AM
DTSTART;TZID=America/Chicago:20250417T103000
DTEND;TZID=America/Chicago:20250417T123000
LOCATION:219 Flagship Blvd\, Montgomery\, TX 77316 US
SUMMARY:The Heritage 55+: AARP\, Arts & Crafts
END:VEVENT
END:VCALENDAR
