BEGIN:VCALENDAR
VERSION:2.0
PRODID:-//empowercdc.org//NONSGML kigkonsult.se iCalcreator 2.30.10//
CALSCALE:GREGORIAN
METHOD:PUBLISH
UID:09b85031-49ac-4eed-9f80-97fe674abe3a
X-WR-CALDESC:EXERCISE\nGROUP EXERCISE\nWORKOUT\n@11AM\n\nARTS & CRAFTS\nEAR
 TH DAY POTTERY\n@11AM\n*Resident only event*
X-WR-RELCALID:a82a7f5014bbb92595286d21652c271f
X-WR-TIMEZONE:America/Chicago
BEGIN:VTIMEZONE
TZID:America/Chicago
BEGIN:STANDARD
TZNAME:CST
DTSTART:20241103T020000
TZOFFSETFROM:-0500
TZOFFSETTO:-0600
RDATE:20251102T020000
END:STANDARD
BEGIN:DAYLIGHT
TZNAME:CDT
DTSTART:20250309T020000
TZOFFSETFROM:-0600
TZOFFSETTO:-0500
RDATE:20260308T020000
END:DAYLIGHT
END:VTIMEZONE
BEGIN:VEVENT
UID:195b70bb-a2f4-4b3b-9f90-6a122ccd0e30
DTSTAMP:20260423T072631Z
DESCRIPTION:EXERCISE\nGROUP EXERCISE\nWORKOUT\n@11AM\n\nARTS & CRAFTS\nEART
 H DAY POTTERY\n@11AM\n*Resident only event*
DTSTART;TZID=America/Chicago:20250417T110000
DTEND;TZID=America/Chicago:20250417T120000
LOCATION:1717 FM359\, Richmond\, TX 77406 US
SUMMARY:Jones Creek: Exercise\, Arts & Crafts
END:VEVENT
END:VCALENDAR
