BEGIN:VCALENDAR
VERSION:2.0
PRODID:-//empowercdc.org//NONSGML kigkonsult.se iCalcreator 2.30.10//
CALSCALE:GREGORIAN
METHOD:PUBLISH
UID:c2e05886-abfa-402a-ae6a-2403f45ef2d7
X-WR-CALDESC:EXERCISE\nGROUP EXERCISE\n@10AM\n\nFINANCIAL PLANNING\nCP-LOCA
 L HERITAGE\nBENEFITS\n@11AM
X-WR-RELCALID:b33579da62b02ee631b924d28aebbe4d
X-WR-TIMEZONE:America/Chicago
BEGIN:VTIMEZONE
TZID:America/Chicago
BEGIN:STANDARD
TZNAME:CST
DTSTART:20241103T020000
TZOFFSETFROM:-0500
TZOFFSETTO:-0600
RDATE:20251102T020000
END:STANDARD
BEGIN:DAYLIGHT
TZNAME:CDT
DTSTART:20250309T020000
TZOFFSETFROM:-0600
TZOFFSETTO:-0500
RDATE:20260308T020000
END:DAYLIGHT
END:VTIMEZONE
BEGIN:VEVENT
UID:c19e6bd5-17dc-4904-9294-a7011f835652
DTSTAMP:20260423T073110Z
DESCRIPTION:EXERCISE\nGROUP EXERCISE\n@10AM\n\nFINANCIAL PLANNING\nCP-LOCAL
  HERITAGE\nBENEFITS\n@11AM
DTSTART;TZID=America/Chicago:20250415T100000
DTEND;TZID=America/Chicago:20250415T120000
LOCATION:15707 Kuykendahl Ct\, Conroe\, TX 77384 US
SUMMARY:Kuykendalh Court: Exercise\, Financial Planning
END:VEVENT
END:VCALENDAR
