BEGIN:VCALENDAR
VERSION:2.0
PRODID:-//empowercdc.org//NONSGML kigkonsult.se iCalcreator 2.30.10//
CALSCALE:GREGORIAN
METHOD:PUBLISH
UID:8d67e841-f410-4839-9a1f-bac4b9540fcb
X-WR-CALDESC:EXERCISE-\nEmpower/TxSMP\n\nStretching @10:00AM\nAARP- Empower
 \n@11:00AM
X-WR-RELCALID:4071ca73096a8de6e415e6ffd77cbcd1
X-WR-TIMEZONE:America/Chicago
BEGIN:VTIMEZONE
TZID:America/Chicago
BEGIN:STANDARD
TZNAME:CST
DTSTART:20241103T020000
TZOFFSETFROM:-0500
TZOFFSETTO:-0600
RDATE:20251102T020000
END:STANDARD
BEGIN:DAYLIGHT
TZNAME:CDT
DTSTART:20250309T020000
TZOFFSETFROM:-0600
TZOFFSETTO:-0500
RDATE:20260308T020000
END:DAYLIGHT
END:VTIMEZONE
BEGIN:VEVENT
UID:81dbbbb1-87ac-4299-8e7e-882f7ec85997
DTSTAMP:20260423T072502Z
DESCRIPTION:EXERCISE-\nEmpower/TxSMP\n\nStretching @10:00AM\nAARP- Empower
 \n@11:00AM
DTSTART;TZID=America/Chicago:20250415T100000
DTEND;TZID=America/Chicago:20250415T120000
LOCATION:1830 Hollyoak Dr\, Houston\, TX 77084 US
SUMMARY:Hollyoak: Exercise\, TX SMP
END:VEVENT
END:VCALENDAR
